BEGIN:VCALENDAR
VERSION:2.0
PRODID:-//Cactus Club //NONSGML Events //EN
CALSCALE:GREGORIAN
X-WR-CALNAME:Cactus Club
BEGIN:VEVENT
CREATED:20260420T181814Z
UID:50824
DTSTAMP:20260421T115106Z
DTSTART:20260519T190000
DTEND:20260519T220000
LOCATION:Cactus Club\, 2496 S. Wentworth Avenue\, Milwaukee\, WI 53207\, United States
DESCRIPTION:  <h2>EVENT INFO</h2> Hey, you. You look like you want to watch a screening wherein countless digital baddies serve up a fat scoop of chaotic, larger than life, fabulous-ness to YOUR dismal reality. Count yourself lucky, because hundreds of talented filmmakers from all over the globe have joined their (acrylic-laden) hands up to create a funny, feminine, and frequently demented collection of animated shorts for YOUR viewing pleasure. Collected and assembled by the indie animation institution that is HELLAVISION TELEVISION and curated by Maddie Brewer and MallBat, this sublime picture show is guaranteed to ensnare the senses. <strong>Proceeds form this event will be donated to Trans Lifeline.</strong> Trans Lifeline is a grassroots hotline and microgrants 501(c)(3) non-profit organization offering direct emotional and financial support to trans people in crisis – for the trans community, by the trans community. Trans Lifeline is a trans-led organization that connects trans people to the community, support, and resources we need to survive and thrive. For more info check out their <a href="https://translifeline.org/">website</a> or @translifeline   <div style="padding: 56.25% 0 0 0; position: relative;"><iframe style="position: absolute; top: 0; left: 0; width: 100%; height: 100%;" title="Cuntavision 2 Trailer - YT 001" src="https://player.vimeo.com/video/1184907564?badge=0&autopause=0&player_id=0&app_id=58479" frameborder="0"></iframe></div> <script src="https://player.vimeo.com/api/player.js"></script>   <h2 class="h2">Hellavision Television Network</h2> <p class="paragraph">is an ongoing community animation project.The core of the project is participatory animation anthology established in Minneapolis, MN in 2017.</p> Twice a year we put out a call for submissions and artists have 5 weeks to complete a :10-2:00 short. It's non-curated, giving artists an opportunity to participate in a screening regardless of skill level. What you get is a 40 min - 90 min screening of experimental animation. We believe in creation for the sake of creation. We value providing an accessible platform where artists can make and screen their work with peers. We find this experience essential to nurturing a strong and vibrant animation community. The world is ending, so we might as well create something together. <a href="https://www.hellavisiontelevision.com/episodes/cunt-a-vision-2-0-fix-your-hearts-or-die">Website</a>
SUMMARY:HELLAVISION TELEVISION Presents: CUNTAVISION 2 Fix Your Hearts Or Die
ORGANIZER:Cactus Club
URL;VALUE=URI:https://www.cactusclubmilwaukee.com/events/hellavision-television-presents-cuntavision-2-fix-your-hearts-or-die/
TRANSP:OPAQUE
END:VEVENT
END:VCALENDAR
