BEGIN:VCALENDAR
VERSION:2.0
PRODID:-//Cactus Club //NONSGML Events //EN
CALSCALE:GREGORIAN
X-WR-CALNAME:Cactus Club
BEGIN:VEVENT
CREATED:20260420T180142Z
UID:50825
DTSTAMP:20260421T112021Z
DTSTART:20260606T183000
DTEND:20260606T213000
LOCATION:Cactus Club\, 2496 S. Wentworth Avenue\, Milwaukee\, WI 53207\, United States
DESCRIPTION:
SUMMARY:Killer High Life • Knob Ross • In Shining Armour • Overhand
ORGANIZER:Cactus Club
URL;VALUE=URI:https://www.cactusclubmilwaukee.com/events/killer-high-life-knob-ross-in-shining-armour-overhand/
TRANSP:OPAQUE
END:VEVENT
END:VCALENDAR
