BEGIN:VCALENDAR
VERSION:2.0
PRODID:-//Cactus Club //NONSGML Events //EN
CALSCALE:GREGORIAN
X-WR-CALNAME:Cactus Club
BEGIN:VEVENT
CREATED:20260421T180032Z
UID:50838
DTSTAMP:20260422T041940Z
DTSTART:20260604T190000
DTEND:20260604T220000
LOCATION:Cactus Club\, 2496 S. Wentworth Avenue\, Milwaukee\, WI 53207\, United States
DESCRIPTION:
SUMMARY:Mr. Phylzzz • Bronson Arm • Primitive Broadcast Service • Orlock
ORGANIZER:Cactus Club
URL;VALUE=URI:https://www.cactusclubmilwaukee.com/events/mr-phylzzz-bronson-arm-primitive-broadcast-service-orlock/
TRANSP:OPAQUE
END:VEVENT
END:VCALENDAR
