BEGIN:VCALENDAR
VERSION:2.0
PRODID:-//Cactus Club //NONSGML Events //EN
CALSCALE:GREGORIAN
X-WR-CALNAME:Cactus Club
BEGIN:VEVENT
CREATED:20260421T042735Z
UID:50844
DTSTAMP:20260421T114633Z
DTSTART:20260506T200000
DTEND:20260506T230000
LOCATION:Cactus Club\, 2496 S. Wentworth Avenue\, Milwaukee\, WI 53207\, United States
DESCRIPTION:<h3 class="xdj266r x14z9mp xat24cr x1lziwak x1vvkbs">SEEN is teaming up with Cream City Daggers to put on a night of flesh and filth! Join us for a screening of queer erotica followed by kinky afters. More details TBA. This is an 18+ Event.</h3> <div></div> <h4 class="x14z9mp xat24cr x1lziwak x1vvkbs xtlvy1s">Cream City Daggers</h4> <p class="x14z9mp xat24cr x1lziwak x1vvkbs xtlvy1s">A newly formed group of all stripe of dyke/queer dirtybirds focused on community and hosting events both naughty & nice, sober & buzzy, soft & mean.</p> <div></div> <h4 class="x14z9mp xat24cr x1lziwak x1vvkbs xtlvy1s">SEEN</h4> <p class="x14z9mp xat24cr x1lziwak x1vvkbs xtlvy1s">A queer coalition of moving image makers, researchers, and curators who aim to disrupt the system of pay to show festivals and censored queer spaces. Through collaboration with other community driven and alternative art spaces, SEEN highlights self defined and nonconformist works to build a foundation for the rise of the Cinematic Gaze/Gayz.</p>
SUMMARY:SEEN & Cream City Daggers Present: A Night of Flesh & Filth
ORGANIZER:Cactus Club
URL;VALUE=URI:https://www.cactusclubmilwaukee.com/events/seen-cream-city-daggers-present-a-night-of-flesh-filth/
TRANSP:OPAQUE
END:VEVENT
END:VCALENDAR
