BEGIN:VCALENDAR
VERSION:2.0
PRODID:-//Cactus Club //NONSGML Events //EN
CALSCALE:GREGORIAN
X-WR-CALNAME:Cactus Club
BEGIN:VEVENT
CREATED:20260424T175257Z
UID:50878
DTSTAMP:20260424T210611Z
DTSTART:20261026T190000
DTEND:20261026T220000
LOCATION:Turner Hall Ballroom\, 1040 Vel R. Phillips Ave\, Milwaukee\, WI 53203\, United States
DESCRIPTION:
SUMMARY:All Them Witches • Emma Ruth Rundle
ORGANIZER:Cactus Club
URL;VALUE=URI:https://www.cactusclubmilwaukee.com/events/all-them-witches-emma-ruth-rundle/
TRANSP:OPAQUE
END:VEVENT
END:VCALENDAR
