BEGIN:VCALENDAR
VERSION:2.0
PRODID:-//Cactus Club //NONSGML Events //EN
CALSCALE:GREGORIAN
X-WR-CALNAME:Cactus Club
BEGIN:VEVENT
CREATED:20260424T182853Z
UID:50883
DTSTAMP:20260424T215343Z
DTSTART:20260718T190000
DTEND:20260718T220000
LOCATION:Anodyne\, 224 W Bruce St\, Milwaukee\, WI 53204\, United States
DESCRIPTION:
SUMMARY:Death Valley Girls
ORGANIZER:Cactus Club
URL;VALUE=URI:https://www.cactusclubmilwaukee.com/events/death-valley-girls/
TRANSP:OPAQUE
END:VEVENT
END:VCALENDAR
