BEGIN:VCALENDAR
VERSION:2.0
PRODID:-//Cactus Club //NONSGML Events //EN
CALSCALE:GREGORIAN
X-WR-CALNAME:Cactus Club
BEGIN:VEVENT
CREATED:20260424T193729Z
UID:50890
DTSTAMP:20260424T233124Z
DTSTART:20260704T190000
DTEND:20260704T220000
LOCATION:Cactus Club\, 2496 S. Wentworth Avenue\, Milwaukee\, WI 53207\, United States
DESCRIPTION:
SUMMARY:Sparta – Cut A Silhouette Tour
ORGANIZER:Cactus Club
URL;VALUE=URI:https://www.cactusclubmilwaukee.com/events/sparta-cut-a-silhouette-tour/
TRANSP:OPAQUE
END:VEVENT
END:VCALENDAR
