BEGIN:VCALENDAR
VERSION:2.0
PRODID:-//Cactus Club //NONSGML Events //EN
CALSCALE:GREGORIAN
X-WR-CALNAME:Cactus Club
BEGIN:VEVENT
CREATED:20180523T223119Z
UID:5143
DTSTAMP:20260419T125224Z
DTSTART:20180803T000000
DTEND:20180803T030000
LOCATION:Cactus Club\, 2496 S. Wentworth Avenue\, Milwaukee\, WI 53207\, United States
DESCRIPTION:
SUMMARY:88 Fingers Louie: Chicago Invasion w/ Flatfoot 56 & The DUI’s
ORGANIZER:Cactus Club
URL;VALUE=URI:https://www.cactusclubmilwaukee.com/events/88-fingers-louie-w-flatfoot-56/
TRANSP:OPAQUE
END:VEVENT
END:VCALENDAR
