BEGIN:VCALENDAR
VERSION:2.0
PRODID:-//Cactus Club //NONSGML Events //EN
CALSCALE:GREGORIAN
X-WR-CALNAME:Cactus Club
BEGIN:VEVENT
CREATED:20260423T203600Z
UID:50875
DTSTAMP:20260424T153429Z
DTSTART:20260517T120000
DTEND:20260517T150000
LOCATION:Cactus Club\, 2496 S. Wentworth Avenue\, Milwaukee\, WI 53207\, United States
DESCRIPTION:Excited to welcome back <a href="https://www.instagram.com/hazelwoodfarmwi/">Hazelwood Farm</a> for their annual seedling sale! Veggies, herbs, flowers, natives, perennials/annuals - all grown and cared for in Oak Creek, Wi :)
SUMMARY:Hazelwood Farm Plant Sale
ORGANIZER:Cactus Club
URL;VALUE=URI:https://www.cactusclubmilwaukee.com/events/hazelwood-farm-plant-sale/
TRANSP:OPAQUE
END:VEVENT
END:VCALENDAR
